BEGIN:VCALENDAR
VERSION:2.0
PRODID:-//Ölmanufaktur Bender - ECPv6.15.20//NONSGML v1.0//EN
CALSCALE:GREGORIAN
METHOD:PUBLISH
X-ORIGINAL-URL:https://www.oelmanufaktur-bender.de
X-WR-CALDESC:Veranstaltungen für Ölmanufaktur Bender
REFRESH-INTERVAL;VALUE=DURATION:PT1H
X-Robots-Tag:noindex
X-PUBLISHED-TTL:PT1H
BEGIN:VTIMEZONE
TZID:Europe/Berlin
BEGIN:DAYLIGHT
TZOFFSETFROM:+0100
TZOFFSETTO:+0200
TZNAME:CEST
DTSTART:20240331T010000
END:DAYLIGHT
BEGIN:STANDARD
TZOFFSETFROM:+0200
TZOFFSETTO:+0100
TZNAME:CET
DTSTART:20241027T010000
END:STANDARD
BEGIN:DAYLIGHT
TZOFFSETFROM:+0100
TZOFFSETTO:+0200
TZNAME:CEST
DTSTART:20250330T010000
END:DAYLIGHT
BEGIN:STANDARD
TZOFFSETFROM:+0200
TZOFFSETTO:+0100
TZNAME:CET
DTSTART:20251026T010000
END:STANDARD
BEGIN:DAYLIGHT
TZOFFSETFROM:+0100
TZOFFSETTO:+0200
TZNAME:CEST
DTSTART:20260329T010000
END:DAYLIGHT
BEGIN:STANDARD
TZOFFSETFROM:+0200
TZOFFSETTO:+0100
TZNAME:CET
DTSTART:20261025T010000
END:STANDARD
END:VTIMEZONE
BEGIN:VEVENT
DTSTART;TZID=Europe/Berlin:20251016T183000
DTEND;TZID=Europe/Berlin:20251016T200000
DTSTAMP:20260423T115657
CREATED:20250905T193528Z
LAST-MODIFIED:20250905T193655Z
UID:13217-1760639400-1760644800@www.oelmanufaktur-bender.de
SUMMARY:Gesunde Öle für starke Frauen in den Wechseljahren
DESCRIPTION:Kraft aus der Natur: \ngesunde Öle für starke Frauen in den Wechseljahren\n-Erfahre\, wie wertvolle Öle deine Hormone und dein Wohlbefinden unterstützen. \nReferentin: \nDana Wohnhaas\, Heilpraktikerin \nEnergieausgleich: 12 €/pro Teilnehmer
URL:https://www.oelmanufaktur-bender.de/veranstaltung/gesunde-oele-fuer-starke-frauen-in-den-wechseljahren/
LOCATION:Ölmanufaktur Bender\, Bahnhofstr. 2\, Ubstadt-Weiher\, 76698\, Deutschland
ORGANIZER;CN="%C3%96lmanufaktur Bender":MAILTO:info@oelmanufaktur-bender.de
END:VEVENT
END:VCALENDAR